BEGIN:VCALENDAR
VERSION:2.0
PRODID:-//Brazos River Charter School - ECPv6.15.20//NONSGML v1.0//EN
CALSCALE:GREGORIAN
METHOD:PUBLISH
X-WR-CALNAME:Brazos River Charter School
X-ORIGINAL-URL:https://brazosriverschool.org
X-WR-CALDESC:Events for Brazos River Charter School
REFRESH-INTERVAL;VALUE=DURATION:PT1H
X-Robots-Tag:noindex
X-PUBLISHED-TTL:PT1H
BEGIN:VTIMEZONE
TZID:America/Chicago
BEGIN:DAYLIGHT
TZOFFSETFROM:-0600
TZOFFSETTO:-0500
TZNAME:CDT
DTSTART:20240310T080000
END:DAYLIGHT
BEGIN:STANDARD
TZOFFSETFROM:-0500
TZOFFSETTO:-0600
TZNAME:CST
DTSTART:20241103T070000
END:STANDARD
BEGIN:DAYLIGHT
TZOFFSETFROM:-0600
TZOFFSETTO:-0500
TZNAME:CDT
DTSTART:20250309T080000
END:DAYLIGHT
BEGIN:STANDARD
TZOFFSETFROM:-0500
TZOFFSETTO:-0600
TZNAME:CST
DTSTART:20251102T070000
END:STANDARD
BEGIN:DAYLIGHT
TZOFFSETFROM:-0600
TZOFFSETTO:-0500
TZNAME:CDT
DTSTART:20260308T080000
END:DAYLIGHT
BEGIN:STANDARD
TZOFFSETFROM:-0500
TZOFFSETTO:-0600
TZNAME:CST
DTSTART:20261101T070000
END:STANDARD
END:VTIMEZONE
BEGIN:VEVENT
DTSTART;VALUE=DATE:20250411
DTEND;VALUE=DATE:20250412
DTSTAMP:20260423T154806
CREATED:20240511T044448Z
LAST-MODIFIED:20240910T191551Z
UID:2491-1744329600-1744415999@brazosriverschool.org
SUMMARY:End of 5th Six Weeks
DESCRIPTION:End of 5th Six Weeks. Great job!
URL:https://brazosriverschool.org/event/end-of-5th-six-weeks/
LOCATION:Brazos River Charter School\, 1964 S FM 199\, Nemo\, TX\, 76070\, United States
ATTACH;FMTTYPE=image/png:https://brazosriverschool.org/wp-content/uploads/2024/08/End-of-Fifth-Six-Weeks-e1723762471456.png
ORGANIZER;CN="Brazos River Charter School":MAILTO:brazosriverschools@brcscharter.com
END:VEVENT
END:VCALENDAR